BEGIN:VCALENDAR
VERSION:2.0
PRODID:-//Sportsactu.be//www.sportsactu.be//
X-WR-TIMEZONE:Europe/Brussels
X-WR-CALNAME:Calendrier Category Pro
X-WR-CALDESC:Calendrier Category Pro
BEGIN:VEVENT
UID:37891
DTSTAMP:20260421T124243Z
DTSTART;VALUE=DATE:20260301
DTEND;VALUE=DATE:20260301
SUMMARY:Kuurne-Bruxelles-Kuurne (Category Pro)
URL:https://www.sportsactu.be/cyclisme/category-pro/kuurne-bruxelles-kuurne/2026
DESCRIPTION:
https://www.sportsactu.be/cyclisme/category-pro/kuurne-bruxelles-kuurne/2026

Abonnez-vous à notre newsletter et recevez les dernières nouvelles par mail.
https://www.sportsactu.be/cyclisme/news/recevoir
END:VEVENT
BEGIN:VEVENT
UID:37892
DTSTAMP:20260421T124243Z
DTSTART;VALUE=DATE:20260318
DTEND;VALUE=DATE:20260318
SUMMARY:Danilith Nokere Koerse (Category Pro)
URL:https://www.sportsactu.be/cyclisme/category-pro/danilith-nokere-koerse/2026
DESCRIPTION:
https://www.sportsactu.be/cyclisme/category-pro/danilith-nokere-koerse/2026

Abonnez-vous à notre newsletter et recevez les dernières nouvelles par mail.
https://www.sportsactu.be/cyclisme/news/recevoir
END:VEVENT
BEGIN:VEVENT
UID:37893
DTSTAMP:20260421T124243Z
DTSTART;VALUE=DATE:20260320
DTEND;VALUE=DATE:20260320
SUMMARY:Bredene Koksijde Classic (Category Pro)
URL:https://www.sportsactu.be/cyclisme/category-pro/bredene-koksijde-classic/2026
DESCRIPTION:
https://www.sportsactu.be/cyclisme/category-pro/bredene-koksijde-classic/2026

Abonnez-vous à notre newsletter et recevez les dernières nouvelles par mail.
https://www.sportsactu.be/cyclisme/news/recevoir
END:VEVENT
BEGIN:VEVENT
UID:37894
DTSTAMP:20260421T124243Z
DTSTART;VALUE=DATE:20260408
DTEND;VALUE=DATE:20260408
SUMMARY:Scheldeprijs (Category Pro)
URL:https://www.sportsactu.be/cyclisme/category-pro/scheldeprijs/2026
DESCRIPTION:
https://www.sportsactu.be/cyclisme/category-pro/scheldeprijs/2026

Abonnez-vous à notre newsletter et recevez les dernières nouvelles par mail.
https://www.sportsactu.be/cyclisme/news/recevoir
END:VEVENT
BEGIN:VEVENT
UID:37895
DTSTAMP:20260421T124243Z
DTSTART;VALUE=DATE:20260607
DTEND;VALUE=DATE:20260607
SUMMARY:Brussels Cycling Classic (Category Pro)
URL:https://www.sportsactu.be/cyclisme/category-pro/brussels-cycling-classic/2026
DESCRIPTION:
https://www.sportsactu.be/cyclisme/category-pro/brussels-cycling-classic/2026

Abonnez-vous à notre newsletter et recevez les dernières nouvelles par mail.
https://www.sportsactu.be/cyclisme/news/recevoir
END:VEVENT
BEGIN:VEVENT
UID:37896
DTSTAMP:20260421T124243Z
DTSTART;VALUE=DATE:20260610
DTEND;VALUE=DATE:20260610
SUMMARY:Circuit Franco-Belge (Category Pro)
URL:https://www.sportsactu.be/cyclisme/category-pro/circuit-franco-belge/2026
DESCRIPTION:
https://www.sportsactu.be/cyclisme/category-pro/circuit-franco-belge/2026

Abonnez-vous à notre newsletter et recevez les dernières nouvelles par mail.
https://www.sportsactu.be/cyclisme/news/recevoir
END:VEVENT
BEGIN:VEVENT
UID:37897
DTSTAMP:20260421T124243Z
DTSTART;VALUE=DATE:20260613
DTEND;VALUE=DATE:20260613
SUMMARY:Dwars door het Hageland (Category Pro)
URL:https://www.sportsactu.be/cyclisme/category-pro/dwars-door-het-hageland/2026
DESCRIPTION:
https://www.sportsactu.be/cyclisme/category-pro/dwars-door-het-hageland/2026

Abonnez-vous à notre newsletter et recevez les dernières nouvelles par mail.
https://www.sportsactu.be/cyclisme/news/recevoir
END:VEVENT
BEGIN:VEVENT
UID:37898
DTSTAMP:20260421T124243Z
DTSTART;VALUE=DATE:20260916
DTEND;VALUE=DATE:20260916
SUMMARY:Grand Prix de Wallonie (Category Pro)
URL:https://www.sportsactu.be/cyclisme/category-pro/grand-prix-de-wallonie/2026
DESCRIPTION:
https://www.sportsactu.be/cyclisme/category-pro/grand-prix-de-wallonie/2026

Abonnez-vous à notre newsletter et recevez les dernières nouvelles par mail.
https://www.sportsactu.be/cyclisme/news/recevoir
END:VEVENT
BEGIN:VEVENT
UID:37899
DTSTAMP:20260421T124243Z
DTSTART;VALUE=DATE:20260919
DTEND;VALUE=DATE:20260919
SUMMARY:SUPER 8 Classic (Category Pro)
URL:https://www.sportsactu.be/cyclisme/category-pro/super-8-classic/2026
DESCRIPTION:
https://www.sportsactu.be/cyclisme/category-pro/super-8-classic/2026

Abonnez-vous à notre newsletter et recevez les dernières nouvelles par mail.
https://www.sportsactu.be/cyclisme/news/recevoir
END:VEVENT
END:VCALENDAR